BEGIN:VCALENDAR
VERSION:2.0
PRODID:-//Hutchinson Public Schools - ECPv6.15.20//NONSGML v1.0//EN
CALSCALE:GREGORIAN
METHOD:PUBLISH
X-ORIGINAL-URL:https://www.isd423.org
X-WR-CALDESC:Events for Hutchinson Public Schools
REFRESH-INTERVAL;VALUE=DURATION:PT1H
X-Robots-Tag:noindex
X-PUBLISHED-TTL:PT1H
BEGIN:VTIMEZONE
TZID:America/Chicago
BEGIN:DAYLIGHT
TZOFFSETFROM:-0600
TZOFFSETTO:-0500
TZNAME:CDT
DTSTART:20150308T080000
END:DAYLIGHT
BEGIN:STANDARD
TZOFFSETFROM:-0500
TZOFFSETTO:-0600
TZNAME:CST
DTSTART:20151101T070000
END:STANDARD
BEGIN:DAYLIGHT
TZOFFSETFROM:-0600
TZOFFSETTO:-0500
TZNAME:CDT
DTSTART:20160313T080000
END:DAYLIGHT
BEGIN:STANDARD
TZOFFSETFROM:-0500
TZOFFSETTO:-0600
TZNAME:CST
DTSTART:20161106T070000
END:STANDARD
BEGIN:DAYLIGHT
TZOFFSETFROM:-0600
TZOFFSETTO:-0500
TZNAME:CDT
DTSTART:20170312T080000
END:DAYLIGHT
BEGIN:STANDARD
TZOFFSETFROM:-0500
TZOFFSETTO:-0600
TZNAME:CST
DTSTART:20171105T070000
END:STANDARD
END:VTIMEZONE
BEGIN:VEVENT
DTSTART;VALUE=DATE:20160822
DTEND;VALUE=DATE:20160823
DTSTAMP:20260425T103423
CREATED:20160318T152801Z
LAST-MODIFIED:20160318T152824Z
UID:10022051-1471824000-1471910399@www.isd423.org
SUMMARY:Grade K-1 Orientation
DESCRIPTION:
URL:https://www.isd423.org/event/grade-k-1-orientation/
LOCATION:Unnamed Venue\, MN
CATEGORIES:Community Education,Crow River Area Learning Center,District Events,District Featured,Early Childhood (ECFE),Hutchinson High School,Hutchinson Middle School,Park Elementary School,Transition Assistance Program (TAP),West Elementary School
GEO:46.729553;-94.6858998
END:VEVENT
END:VCALENDAR