BEGIN:VCALENDAR
VERSION:2.0
PRODID:-//Hutchinson Public Schools - ECPv6.15.20//NONSGML v1.0//EN
CALSCALE:GREGORIAN
METHOD:PUBLISH
X-ORIGINAL-URL:https://www.isd423.org
X-WR-CALDESC:Events for Hutchinson Public Schools
REFRESH-INTERVAL;VALUE=DURATION:PT1H
X-Robots-Tag:noindex
X-PUBLISHED-TTL:PT1H
BEGIN:VTIMEZONE
TZID:America/Chicago
BEGIN:DAYLIGHT
TZOFFSETFROM:-0600
TZOFFSETTO:-0500
TZNAME:CDT
DTSTART:20140309T080000
END:DAYLIGHT
BEGIN:STANDARD
TZOFFSETFROM:-0500
TZOFFSETTO:-0600
TZNAME:CST
DTSTART:20141102T070000
END:STANDARD
BEGIN:DAYLIGHT
TZOFFSETFROM:-0600
TZOFFSETTO:-0500
TZNAME:CDT
DTSTART:20150308T080000
END:DAYLIGHT
BEGIN:STANDARD
TZOFFSETFROM:-0500
TZOFFSETTO:-0600
TZNAME:CST
DTSTART:20151101T070000
END:STANDARD
BEGIN:DAYLIGHT
TZOFFSETFROM:-0600
TZOFFSETTO:-0500
TZNAME:CDT
DTSTART:20160313T080000
END:DAYLIGHT
BEGIN:STANDARD
TZOFFSETFROM:-0500
TZOFFSETTO:-0600
TZNAME:CST
DTSTART:20161106T070000
END:STANDARD
END:VTIMEZONE
BEGIN:VEVENT
DTSTART;TZID=America/Chicago:20150902T160000
DTEND;TZID=America/Chicago:20150902T190000
DTSTAMP:20260423T092927
CREATED:20150824T145956Z
LAST-MODIFIED:20150824T145956Z
UID:10029711-1441209600-1441220400@www.isd423.org
SUMMARY:Park Elementary Open House
DESCRIPTION:An open house will be held today from 4:00 – 7:00 pm for all Park students and their families. Students may use this time to find their classroom\, meet their teacher\, bring their school supplies\, purchase a planner (grades 3-5)\, pay lunch money\, and many other things. Please plan to join us!
URL:https://www.isd423.org/event/park-elementary-open-house-2/
LOCATION:Unnamed Venue\, MN
CATEGORIES:Park Elementary School
GEO:46.729553;-94.6858998
END:VEVENT
END:VCALENDAR