BEGIN:VCALENDAR
VERSION:2.0
PRODID:-//Hutchinson Public Schools - ECPv6.15.20//NONSGML v1.0//EN
CALSCALE:GREGORIAN
METHOD:PUBLISH
X-ORIGINAL-URL:https://www.isd423.org
X-WR-CALDESC:Events for Hutchinson Public Schools
REFRESH-INTERVAL;VALUE=DURATION:PT1H
X-Robots-Tag:noindex
X-PUBLISHED-TTL:PT1H
BEGIN:VTIMEZONE
TZID:America/Chicago
BEGIN:DAYLIGHT
TZOFFSETFROM:-0600
TZOFFSETTO:-0500
TZNAME:CDT
DTSTART:20190310T080000
END:DAYLIGHT
BEGIN:STANDARD
TZOFFSETFROM:-0500
TZOFFSETTO:-0600
TZNAME:CST
DTSTART:20191103T070000
END:STANDARD
BEGIN:DAYLIGHT
TZOFFSETFROM:-0600
TZOFFSETTO:-0500
TZNAME:CDT
DTSTART:20200308T080000
END:DAYLIGHT
BEGIN:STANDARD
TZOFFSETFROM:-0500
TZOFFSETTO:-0600
TZNAME:CST
DTSTART:20201101T070000
END:STANDARD
BEGIN:DAYLIGHT
TZOFFSETFROM:-0600
TZOFFSETTO:-0500
TZNAME:CDT
DTSTART:20210314T080000
END:DAYLIGHT
BEGIN:STANDARD
TZOFFSETFROM:-0500
TZOFFSETTO:-0600
TZNAME:CST
DTSTART:20211107T070000
END:STANDARD
END:VTIMEZONE
BEGIN:VEVENT
DTSTART;TZID=America/Chicago:20200108T073000
DTEND;TZID=America/Chicago:20200108T203000
DTSTAMP:20260425T085208
CREATED:20200106T160138Z
LAST-MODIFIED:20200106T160147Z
UID:10024538-1578468600-1578515400@www.isd423.org
SUMMARY:HMS - Coffee w/ Principal
DESCRIPTION:Wednesday\, January 8th @ 7:30 a.m. in the Middle School Media Center please join Mrs. Vatthauer (HMS Principal) for Coffee\, a treat\, and conversation.  \nMrs. Vatthauer would love to have you join her if you would like to have some good conversation in a small group setting regarding informal topics regarding HMS Students and our school\, or other relatable topics. \n  \n*if you are unable to make there date and time\, there will be another Coffee w/Principal on Thursday\, January 9th @ 4:30 p.m. in the Media Center. 
URL:https://www.isd423.org/event/hms-coffee-w-principal/
LOCATION:Hutchinson\, MN\, 55350
CATEGORIES:Hutchinson Middle School
GEO:44.8925483;-94.3692926
END:VEVENT
END:VCALENDAR