BEGIN:VCALENDAR
VERSION:2.0
PRODID:-//Hutchinson Public Schools - ECPv6.15.20//NONSGML v1.0//EN
CALSCALE:GREGORIAN
METHOD:PUBLISH
X-WR-CALNAME:Hutchinson Public Schools
X-ORIGINAL-URL:https://www.isd423.org
X-WR-CALDESC:Events for Hutchinson Public Schools
REFRESH-INTERVAL;VALUE=DURATION:PT1H
X-Robots-Tag:noindex
X-PUBLISHED-TTL:PT1H
BEGIN:VTIMEZONE
TZID:America/Chicago
BEGIN:DAYLIGHT
TZOFFSETFROM:-0600
TZOFFSETTO:-0500
TZNAME:CDT
DTSTART:20130310T080000
END:DAYLIGHT
BEGIN:STANDARD
TZOFFSETFROM:-0500
TZOFFSETTO:-0600
TZNAME:CST
DTSTART:20131103T070000
END:STANDARD
BEGIN:DAYLIGHT
TZOFFSETFROM:-0600
TZOFFSETTO:-0500
TZNAME:CDT
DTSTART:20140309T080000
END:DAYLIGHT
BEGIN:STANDARD
TZOFFSETFROM:-0500
TZOFFSETTO:-0600
TZNAME:CST
DTSTART:20141102T070000
END:STANDARD
BEGIN:DAYLIGHT
TZOFFSETFROM:-0600
TZOFFSETTO:-0500
TZNAME:CDT
DTSTART:20150308T080000
END:DAYLIGHT
BEGIN:STANDARD
TZOFFSETFROM:-0500
TZOFFSETTO:-0600
TZNAME:CST
DTSTART:20151101T070000
END:STANDARD
BEGIN:DAYLIGHT
TZOFFSETFROM:-0600
TZOFFSETTO:-0500
TZNAME:CDT
DTSTART:20160313T080000
END:DAYLIGHT
BEGIN:STANDARD
TZOFFSETFROM:-0500
TZOFFSETTO:-0600
TZNAME:CST
DTSTART:20161106T070000
END:STANDARD
END:VTIMEZONE
BEGIN:VEVENT
DTSTART;TZID=America/Chicago:20151119T180000
DTEND;TZID=America/Chicago:20151119T193000
DTSTAMP:20260422T121630
CREATED:20151103T203029Z
LAST-MODIFIED:20151103T203029Z
UID:10022033-1447956000-1447961400@www.isd423.org
SUMMARY:PTO Family Movie Night
DESCRIPTION:Come and watch Inside Out with other students and families from Park and West Elementary. \nClick here to view the event’s flyer for more details.
URL:https://www.isd423.org/event/pto-family-movie-night/
LOCATION:Park Elementary Auditorium\, 100 Glen Street SW\, Hutchinson\, MN\, 55350\, United States
CATEGORIES:Park Elementary School,West Elementary School
GEO:44.8933903;-94.3721038
X-APPLE-STRUCTURED-LOCATION;VALUE=URI;X-ADDRESS=Park Elementary Auditorium 100 Glen Street SW Hutchinson MN 55350 United States;X-APPLE-RADIUS=500;X-TITLE=100 Glen Street SW:geo:-94.3721038,44.8933903
END:VEVENT
BEGIN:VEVENT
DTSTART;TZID=America/Chicago:20141030T180000
DTEND;TZID=America/Chicago:20141030T193000
DTSTAMP:20260422T121630
CREATED:20141009T155026Z
LAST-MODIFIED:20141009T155026Z
UID:10023133-1414692000-1414697400@www.isd423.org
SUMMARY:PTO Family Fun Night: BINGO!
DESCRIPTION:The PTO’s first Family Fun Night is one of the highlights of the school year!  Kindergarten through fifth grade students and their families are welcome to attend.  Costumes are encouraged\, but optional.  BINGO will be held in Park Elementary’s Auditorium.
URL:https://www.isd423.org/event/pto-family-fun-night-bingo/
LOCATION:Park Elementary Auditorium\, 100 Glen Street SW\, Hutchinson\, MN\, 55350\, United States
CATEGORIES:Park Elementary School,West Elementary School
GEO:44.8933903;-94.3721038
X-APPLE-STRUCTURED-LOCATION;VALUE=URI;X-ADDRESS=Park Elementary Auditorium 100 Glen Street SW Hutchinson MN 55350 United States;X-APPLE-RADIUS=500;X-TITLE=100 Glen Street SW:geo:-94.3721038,44.8933903
END:VEVENT
END:VCALENDAR