BEGIN:VCALENDAR
VERSION:2.0
PRODID:-//Hutchinson Public Schools - ECPv6.15.20//NONSGML v1.0//EN
CALSCALE:GREGORIAN
METHOD:PUBLISH
X-WR-CALNAME:Hutchinson Public Schools
X-ORIGINAL-URL:https://www.isd423.org
X-WR-CALDESC:Events for Hutchinson Public Schools
REFRESH-INTERVAL;VALUE=DURATION:PT1H
X-Robots-Tag:noindex
X-PUBLISHED-TTL:PT1H
BEGIN:VTIMEZONE
TZID:America/Chicago
BEGIN:DAYLIGHT
TZOFFSETFROM:-0600
TZOFFSETTO:-0500
TZNAME:CDT
DTSTART:20210314T080000
END:DAYLIGHT
BEGIN:STANDARD
TZOFFSETFROM:-0500
TZOFFSETTO:-0600
TZNAME:CST
DTSTART:20211107T070000
END:STANDARD
BEGIN:DAYLIGHT
TZOFFSETFROM:-0600
TZOFFSETTO:-0500
TZNAME:CDT
DTSTART:20220313T080000
END:DAYLIGHT
BEGIN:STANDARD
TZOFFSETFROM:-0500
TZOFFSETTO:-0600
TZNAME:CST
DTSTART:20221106T070000
END:STANDARD
BEGIN:DAYLIGHT
TZOFFSETFROM:-0600
TZOFFSETTO:-0500
TZNAME:CDT
DTSTART:20230312T080000
END:DAYLIGHT
BEGIN:STANDARD
TZOFFSETFROM:-0500
TZOFFSETTO:-0600
TZNAME:CST
DTSTART:20231105T070000
END:STANDARD
BEGIN:DAYLIGHT
TZOFFSETFROM:-0600
TZOFFSETTO:-0500
TZNAME:CDT
DTSTART:20240310T080000
END:DAYLIGHT
BEGIN:STANDARD
TZOFFSETFROM:-0500
TZOFFSETTO:-0600
TZNAME:CST
DTSTART:20241103T070000
END:STANDARD
BEGIN:DAYLIGHT
TZOFFSETFROM:-0600
TZOFFSETTO:-0500
TZNAME:CDT
DTSTART:20250309T080000
END:DAYLIGHT
BEGIN:STANDARD
TZOFFSETFROM:-0500
TZOFFSETTO:-0600
TZNAME:CST
DTSTART:20251102T070000
END:STANDARD
END:VTIMEZONE
BEGIN:VEVENT
DTSTART;TZID=America/Chicago:20241108T080000
DTEND;TZID=America/Chicago:20241108T100000
DTSTAMP:20260425T132703
CREATED:20241029T182409Z
LAST-MODIFIED:20241029T182409Z
UID:10032867-1731052800-1731060000@www.isd423.org
SUMMARY:Tiger - Popcorn Friday
DESCRIPTION:The Popcorn Patrol Boys will be making popcorn for the 2nd & 3rd grade students.
URL:https://www.isd423.org/event/tiger-popcorn-friday/
CATEGORIES:Tiger Elementary School
END:VEVENT
BEGIN:VEVENT
DTSTART;TZID=America/Chicago:20241106T133000
DTEND;TZID=America/Chicago:20241106T153000
DTSTAMP:20260425T132703
CREATED:20241029T182258Z
LAST-MODIFIED:20241029T182258Z
UID:10032866-1730899800-1730907000@www.isd423.org
SUMMARY:Tiger - Two hour early release
DESCRIPTION:School will be released two hours early\, 1:30 p.m.
URL:https://www.isd423.org/event/tiger-two-hour-early-release/
CATEGORIES:Tiger Elementary School
END:VEVENT
BEGIN:VEVENT
DTSTART;TZID=America/Chicago:20241030T091500
DTEND;TZID=America/Chicago:20241030T144500
DTSTAMP:20260425T132703
CREATED:20241029T181244Z
LAST-MODIFIED:20241029T181244Z
UID:10032865-1730279700-1730299500@www.isd423.org
SUMMARY:Tiger: Glow Run/Bounce Houses
DESCRIPTION:The Glow Run/Bounce Houses for Tiger Elementary students will be held at the High School.  Please contact school for more information
URL:https://www.isd423.org/event/tiger-glow-run-bounce-houses/
CATEGORIES:Tiger Elementary School
END:VEVENT
BEGIN:VEVENT
DTSTART;TZID=America/Chicago:20241029T133000
DTEND;TZID=America/Chicago:20241029T153000
DTSTAMP:20260425T132703
CREATED:20241029T192838Z
LAST-MODIFIED:20241029T192838Z
UID:10032886-1730208600-1730215800@www.isd423.org
SUMMARY:Tiger - Two Hour Early Release
DESCRIPTION:Students will be released two hours early today\, 1:30 p.m.
URL:https://www.isd423.org/event/tiger-two-hour-early-release-5/
CATEGORIES:Tiger Elementary School
END:VEVENT
BEGIN:VEVENT
DTSTART;TZID=America/Chicago:20241003T080000
DTEND;TZID=America/Chicago:20241003T120000
DTSTAMP:20260425T132703
CREATED:20240807T173140Z
LAST-MODIFIED:20240807T173140Z
UID:10032851-1727942400-1727956800@www.isd423.org
SUMMARY:Tiger Elementary Picture Retakes
DESCRIPTION:Tiger Elementary will be having picture retakes for those who missed having their picture taken.
URL:https://www.isd423.org/event/tiger-elementary-picture-retakes/
LOCATION:Tiger Elementary School\, 805 School Rd SW\, Hutchinson\, 55350\, United States
CATEGORIES:Tiger Elementary School
GEO:44.8805917;-94.3947915
X-APPLE-STRUCTURED-LOCATION;VALUE=URI;X-ADDRESS=Tiger Elementary School 805 School Rd SW Hutchinson 55350 United States;X-APPLE-RADIUS=500;X-TITLE=805 School Rd SW:geo:-94.3947915,44.8805917
END:VEVENT
BEGIN:VEVENT
DTSTART;TZID=America/Chicago:20241003T080000
DTEND;TZID=America/Chicago:20241003T120000
DTSTAMP:20260425T132703
CREATED:20240716T144825Z
LAST-MODIFIED:20240716T144825Z
UID:10032840-1727942400-1727956800@www.isd423.org
SUMMARY:Picture Retake Day at Tiger
DESCRIPTION:Josten’s will be retaking photos for students and staff who missed them on September 10
URL:https://www.isd423.org/event/picture-retake-day-at-tiger/
CATEGORIES:Tiger Elementary School
END:VEVENT
BEGIN:VEVENT
DTSTART;TZID=America/Chicago:20240910T080000
DTEND;TZID=America/Chicago:20240910T130000
DTSTAMP:20260425T132703
CREATED:20240716T144720Z
LAST-MODIFIED:20240716T144914Z
UID:10032839-1725955200-1725973200@www.isd423.org
SUMMARY:Picture Day at Tiger
DESCRIPTION:Josten’s will be taking photographs of all students and staff at Tiger Elementary School
URL:https://www.isd423.org/event/picture-day-at-tiger/
CATEGORIES:Tiger Elementary School
END:VEVENT
BEGIN:VEVENT
DTSTART;VALUE=DATE:20240909
DTEND;VALUE=DATE:20240914
DTSTAMP:20260425T132703
CREATED:20240703T143400Z
LAST-MODIFIED:20240703T143411Z
UID:10032761-1725840000-1726271999@www.isd423.org
SUMMARY:Homecoming Week 2024
DESCRIPTION:Homecoming Week is early this year with it starting Monday 9th and ending on Friday Sept 13th. The Homecoming football game this year is against Totino-Grace. Game time is 7pm. \nStay tuned for more details to come from Student Council for apparel\, buttons and Homecoming parade which happens Friday Sept 13th\, time TBD.
URL:https://www.isd423.org/event/homecoming-week-2/
CATEGORIES:District Events,Hutchinson High School,Hutchinson Middle School,Park Elementary School,Tiger Elementary School,West Elementary School
END:VEVENT
BEGIN:VEVENT
DTSTART;TZID=America/Chicago:20240828T160000
DTEND;TZID=America/Chicago:20240828T190000
DTSTAMP:20260425T132703
CREATED:20240716T144442Z
LAST-MODIFIED:20240716T144442Z
UID:10032838-1724860800-1724871600@www.isd423.org
SUMMARY:Tiger Elementary Open House
DESCRIPTION:Open house for students and parents to tour the school and meet their teachers.
URL:https://www.isd423.org/event/tiger-elementary-open-house/
CATEGORIES:Tiger Elementary School
END:VEVENT
BEGIN:VEVENT
DTSTART;VALUE=DATE:20240805
DTEND;VALUE=DATE:20240806
DTSTAMP:20260425T132703
CREATED:20240703T132010Z
LAST-MODIFIED:20240703T145949Z
UID:10032760-1722816000-1722902399@www.isd423.org
SUMMARY:Purchase Activity Passes
DESCRIPTION:The activities office will start selling activity passes starting Monday August 5th at the Highschool as well as online. Please stop in and purchase yours passes today! \nWe will also be selling activity passes at Back to School Open House at both the Highschool and Middle School. The fee for passes has changed. Please see below: \nAdult Passes $90 \nStudent/Senior Passes $40 \nClergy Passes $40.00 \nAny questions\, please contact the activities office at 320-587-2151
URL:https://www.isd423.org/event/purchase-activity-passes/
LOCATION:High School\, Hutchinson\, MN\, 55350
CATEGORIES:District Events,Hutchinson High School,Hutchinson Middle School,Park Elementary School,Tiger Elementary School,West Elementary School
GEO:44.8925483;-94.3692926
END:VEVENT
BEGIN:VEVENT
DTSTART;TZID=America/Chicago:20240715T083000
DTEND;TZID=America/Chicago:20240718T120000
DTSTAMP:20260425T132703
CREATED:20240716T145452Z
LAST-MODIFIED:20240716T145452Z
UID:10032842-1721032200-1721304000@www.isd423.org
SUMMARY:Summer Bridge at Tiger Elementary
DESCRIPTION:
URL:https://www.isd423.org/event/summer-bridge-at-tiger-elementary/
CATEGORIES:Tiger Elementary School
END:VEVENT
BEGIN:VEVENT
DTSTART;TZID=America/Chicago:20221025T090000
DTEND;TZID=America/Chicago:20221025T120000
DTSTAMP:20260425T132703
CREATED:20220331T164216Z
LAST-MODIFIED:20220331T164216Z
UID:10031750-1666688400-1666699200@www.isd423.org
SUMMARY:Tiger Elementary Picture Retake Day
DESCRIPTION:Students will have the opportunity to have their picture retaken or taken if they missed the initial picture day in September.
URL:https://www.isd423.org/event/tiger-elementary-picture-retake-day/
LOCATION:Private:\, Hutchinson\, MN\, 55350
CATEGORIES:Tiger Elementary School
GEO:44.8925483;-94.3692926
END:VEVENT
BEGIN:VEVENT
DTSTART;TZID=America/Chicago:20220920T090000
DTEND;TZID=America/Chicago:20220920T120000
DTSTAMP:20260425T132703
CREATED:20220331T163747Z
LAST-MODIFIED:20220331T163747Z
UID:10032659-1663664400-1663675200@www.isd423.org
SUMMARY:Tiger Elementary Picture Day
DESCRIPTION:Students at Tiger Elementary will have their pictures taken today.
URL:https://www.isd423.org/event/tiger-elementary-picture-day/
LOCATION:Private:\, Hutchinson\, MN\, 55350
CATEGORIES:Tiger Elementary School
GEO:44.8925483;-94.3692926
END:VEVENT
BEGIN:VEVENT
DTSTART;TZID=America/Chicago:20220505T180000
DTEND;TZID=America/Chicago:20220505T203000
DTSTAMP:20260425T132703
CREATED:20220209T175106Z
LAST-MODIFIED:20220314T192228Z
UID:10032656-1651773600-1651782600@www.isd423.org
SUMMARY:Grade 3 Music Program
DESCRIPTION:Grade 3 students will perform “My Favorite Things” tonight. There will be two performances:\n6:00 – Ms. Ely and Mrs. Wheatley\n7:00 – Mrs. Bussler and Mrs. Padrnos
URL:https://www.isd423.org/event/grade-3-music-program-2/
LOCATION:Private:\, Hutchinson\, MN\, 55350
CATEGORIES:Tiger Elementary School
GEO:44.8925483;-94.3692926
END:VEVENT
BEGIN:VEVENT
DTSTART;TZID=America/Chicago:20220503T180000
DTEND;TZID=America/Chicago:20220503T203000
DTSTAMP:20260425T132703
CREATED:20220209T174449Z
LAST-MODIFIED:20220314T192112Z
UID:10032655-1651600800-1651609800@www.isd423.org
SUMMARY:Grade 3 Music Program
DESCRIPTION:Grade 3 students will perform “My Favorite Things” tonight. There will be two performances:\n6:00 – Mrs. Krause and Mrs. Schumaci\n7:00 – Mrs. Lauinger and Mr. Nornes
URL:https://www.isd423.org/event/grade-3-music-program/
LOCATION:Private:\, Hutchinson\, MN\, 55350
CATEGORIES:Tiger Elementary School
GEO:44.8925483;-94.3692926
END:VEVENT
END:VCALENDAR