BEGIN:VCALENDAR
VERSION:2.0
PRODID:-//Hutchinson Public Schools - ECPv6.15.20//NONSGML v1.0//EN
CALSCALE:GREGORIAN
METHOD:PUBLISH
X-ORIGINAL-URL:https://www.isd423.org
X-WR-CALDESC:Events for Hutchinson Public Schools
REFRESH-INTERVAL;VALUE=DURATION:PT1H
X-Robots-Tag:noindex
X-PUBLISHED-TTL:PT1H
BEGIN:VTIMEZONE
TZID:America/Chicago
BEGIN:DAYLIGHT
TZOFFSETFROM:-0600
TZOFFSETTO:-0500
TZNAME:CDT
DTSTART:20250309T080000
END:DAYLIGHT
BEGIN:STANDARD
TZOFFSETFROM:-0500
TZOFFSETTO:-0600
TZNAME:CST
DTSTART:20251102T070000
END:STANDARD
BEGIN:DAYLIGHT
TZOFFSETFROM:-0600
TZOFFSETTO:-0500
TZNAME:CDT
DTSTART:20260308T080000
END:DAYLIGHT
BEGIN:STANDARD
TZOFFSETFROM:-0500
TZOFFSETTO:-0600
TZNAME:CST
DTSTART:20261101T070000
END:STANDARD
BEGIN:DAYLIGHT
TZOFFSETFROM:-0600
TZOFFSETTO:-0500
TZNAME:CDT
DTSTART:20270314T080000
END:DAYLIGHT
BEGIN:STANDARD
TZOFFSETFROM:-0500
TZOFFSETTO:-0600
TZNAME:CST
DTSTART:20271107T070000
END:STANDARD
END:VTIMEZONE
BEGIN:VEVENT
DTSTART;VALUE=DATE:20260423
DTEND;VALUE=DATE:20260424
DTSTAMP:20260420T155244
CREATED:20250820T204125Z
LAST-MODIFIED:20250820T204125Z
UID:10032973-1776902400-1776988799@www.isd423.org
SUMMARY:Grades 9-12 Evening Conferences
DESCRIPTION:
URL:https://www.isd423.org/event/grades-9-12-evening-conferences/
CATEGORIES:District Events
END:VEVENT
BEGIN:VEVENT
DTSTART;TZID=America/Chicago:20260427T173000
DTEND;TZID=America/Chicago:20260427T190000
DTSTAMP:20260420T155244
CREATED:20260115T131625Z
LAST-MODIFIED:20260115T131625Z
UID:10032985-1777311000-1777316400@www.isd423.org
SUMMARY:School Board Regular Meeting
DESCRIPTION:
URL:https://www.isd423.org/event/school-board-regular-meeting-25/
LOCATION:Hutchinson City Center\, 111 Hassan St SE\, Hutchinson\, MN\, 55350
CATEGORIES:District Events
GEO:44.8904795;-94.3678136
X-APPLE-STRUCTURED-LOCATION;VALUE=URI;X-ADDRESS=Hutchinson City Center 111 Hassan St SE Hutchinson MN 55350;X-APPLE-RADIUS=500;X-TITLE=111 Hassan St SE:geo:-94.3678136,44.8904795
END:VEVENT
END:VCALENDAR