BEGIN:VCALENDAR
VERSION:2.0
PRODID:-//Hutchinson Public Schools - ECPv6.15.20//NONSGML v1.0//EN
CALSCALE:GREGORIAN
METHOD:PUBLISH
X-WR-CALNAME:Hutchinson Public Schools
X-ORIGINAL-URL:https://www.isd423.org
X-WR-CALDESC:Events for Hutchinson Public Schools
REFRESH-INTERVAL;VALUE=DURATION:PT1H
X-Robots-Tag:noindex
X-PUBLISHED-TTL:PT1H
BEGIN:VTIMEZONE
TZID:America/Chicago
BEGIN:DAYLIGHT
TZOFFSETFROM:-0600
TZOFFSETTO:-0500
TZNAME:CDT
DTSTART:20240310T080000
END:DAYLIGHT
BEGIN:STANDARD
TZOFFSETFROM:-0500
TZOFFSETTO:-0600
TZNAME:CST
DTSTART:20241103T070000
END:STANDARD
BEGIN:DAYLIGHT
TZOFFSETFROM:-0600
TZOFFSETTO:-0500
TZNAME:CDT
DTSTART:20250309T080000
END:DAYLIGHT
BEGIN:STANDARD
TZOFFSETFROM:-0500
TZOFFSETTO:-0600
TZNAME:CST
DTSTART:20251102T070000
END:STANDARD
BEGIN:DAYLIGHT
TZOFFSETFROM:-0600
TZOFFSETTO:-0500
TZNAME:CDT
DTSTART:20260308T080000
END:DAYLIGHT
BEGIN:STANDARD
TZOFFSETFROM:-0500
TZOFFSETTO:-0600
TZNAME:CST
DTSTART:20261101T070000
END:STANDARD
BEGIN:DAYLIGHT
TZOFFSETFROM:-0600
TZOFFSETTO:-0500
TZNAME:CDT
DTSTART:20270314T080000
END:DAYLIGHT
BEGIN:STANDARD
TZOFFSETFROM:-0500
TZOFFSETTO:-0600
TZNAME:CST
DTSTART:20271107T070000
END:STANDARD
END:VTIMEZONE
BEGIN:VEVENT
DTSTART;VALUE=DATE:20251224
DTEND;VALUE=DATE:20260103
DTSTAMP:20260421T065337
CREATED:20250820T203318Z
LAST-MODIFIED:20250820T203318Z
UID:10032960-1766534400-1767398399@www.isd423.org
SUMMARY:No School - Holiday Break
DESCRIPTION:
URL:https://www.isd423.org/event/no-school-holiday-break-4/
CATEGORIES:District Events
END:VEVENT
BEGIN:VEVENT
DTSTART;VALUE=DATE:20260107
DTEND;VALUE=DATE:20260108
DTSTAMP:20260421T065337
CREATED:20250820T203514Z
LAST-MODIFIED:20250820T203514Z
UID:10032961-1767744000-1767830399@www.isd423.org
SUMMARY:2 Hour Early Release
DESCRIPTION:
URL:https://www.isd423.org/event/2-hour-early-release-9/
CATEGORIES:District Events
END:VEVENT
BEGIN:VEVENT
DTSTART;VALUE=DATE:20260119
DTEND;VALUE=DATE:20260120
DTSTAMP:20260421T065337
CREATED:20250820T203544Z
LAST-MODIFIED:20250820T203544Z
UID:10032962-1768780800-1768867199@www.isd423.org
SUMMARY:No School - Martin Luther King Jr. Day
DESCRIPTION:
URL:https://www.isd423.org/event/no-school-martin-luther-king-jr-day-3/
CATEGORIES:District Events
END:VEVENT
BEGIN:VEVENT
DTSTART;TZID=America/Chicago:20260126T173000
DTEND;TZID=America/Chicago:20260126T200000
DTSTAMP:20260421T065337
CREATED:20260115T131128Z
LAST-MODIFIED:20260115T131128Z
UID:10032979-1769448600-1769457600@www.isd423.org
SUMMARY:School Board Work Session
DESCRIPTION:
URL:https://www.isd423.org/event/school-board-work-session-18/
LOCATION:District Office Conference Room
CATEGORIES:District Events
END:VEVENT
END:VCALENDAR