BEGIN:VCALENDAR
VERSION:2.0
PRODID:-//Hutchinson Public Schools - ECPv6.15.20//NONSGML v1.0//EN
CALSCALE:GREGORIAN
METHOD:PUBLISH
X-WR-CALNAME:Hutchinson Public Schools
X-ORIGINAL-URL:https://www.isd423.org
X-WR-CALDESC:Events for Hutchinson Public Schools
REFRESH-INTERVAL;VALUE=DURATION:PT1H
X-Robots-Tag:noindex
X-PUBLISHED-TTL:PT1H
BEGIN:VTIMEZONE
TZID:America/Chicago
BEGIN:DAYLIGHT
TZOFFSETFROM:-0600
TZOFFSETTO:-0500
TZNAME:CDT
DTSTART:20150308T080000
END:DAYLIGHT
BEGIN:STANDARD
TZOFFSETFROM:-0500
TZOFFSETTO:-0600
TZNAME:CST
DTSTART:20151101T070000
END:STANDARD
BEGIN:DAYLIGHT
TZOFFSETFROM:-0600
TZOFFSETTO:-0500
TZNAME:CDT
DTSTART:20160313T080000
END:DAYLIGHT
BEGIN:STANDARD
TZOFFSETFROM:-0500
TZOFFSETTO:-0600
TZNAME:CST
DTSTART:20161106T070000
END:STANDARD
BEGIN:DAYLIGHT
TZOFFSETFROM:-0600
TZOFFSETTO:-0500
TZNAME:CDT
DTSTART:20170312T080000
END:DAYLIGHT
BEGIN:STANDARD
TZOFFSETFROM:-0500
TZOFFSETTO:-0600
TZNAME:CST
DTSTART:20171105T070000
END:STANDARD
BEGIN:DAYLIGHT
TZOFFSETFROM:-0600
TZOFFSETTO:-0500
TZNAME:CDT
DTSTART:20180311T080000
END:DAYLIGHT
BEGIN:STANDARD
TZOFFSETFROM:-0500
TZOFFSETTO:-0600
TZNAME:CST
DTSTART:20181104T070000
END:STANDARD
BEGIN:DAYLIGHT
TZOFFSETFROM:-0600
TZOFFSETTO:-0500
TZNAME:CDT
DTSTART:20190310T080000
END:DAYLIGHT
BEGIN:STANDARD
TZOFFSETFROM:-0500
TZOFFSETTO:-0600
TZNAME:CST
DTSTART:20191103T070000
END:STANDARD
END:VTIMEZONE
BEGIN:VEVENT
DTSTART;VALUE=DATE:20180302
DTEND;VALUE=DATE:20180303
DTSTAMP:20260420T104604
CREATED:20170619T155604Z
LAST-MODIFIED:20170619T155604Z
UID:10032441-1519948800-1520035199@www.isd423.org
SUMMARY:No School
DESCRIPTION:
URL:https://www.isd423.org/event/no-school-20/
LOCATION:Hutchinson\, 55350
CATEGORIES:Community Education,Crow River Area Learning Center,District Events,District Featured,Early Childhood (ECFE),Hutchinson High School,Hutchinson Middle School,Park Elementary School,Transition Assistance Program (TAP),West Elementary School
GEO:44.8925483;-94.3692926
END:VEVENT
BEGIN:VEVENT
DTSTART;VALUE=DATE:20180301
DTEND;VALUE=DATE:20180302
DTSTAMP:20260420T104604
CREATED:20170619T155542Z
LAST-MODIFIED:20170619T155542Z
UID:10032440-1519862400-1519948799@www.isd423.org
SUMMARY:Trimester 2 Ends
DESCRIPTION:
URL:https://www.isd423.org/event/trimester-2-ends-3/
LOCATION:Hutchinson\, 55350
CATEGORIES:Community Education,Crow River Area Learning Center,District Events,District Featured,Early Childhood (ECFE),Hutchinson High School,Hutchinson Middle School,Park Elementary School,Transition Assistance Program (TAP),West Elementary School
GEO:44.8925483;-94.3692926
END:VEVENT
BEGIN:VEVENT
DTSTART;VALUE=DATE:20180219
DTEND;VALUE=DATE:20180220
DTSTAMP:20260420T104604
CREATED:20170619T155517Z
LAST-MODIFIED:20170619T155517Z
UID:10032439-1518998400-1519084799@www.isd423.org
SUMMARY:No School - President's Day
DESCRIPTION:
URL:https://www.isd423.org/event/no-school-presidents-day-5/
LOCATION:Hutchinson\, 55350
CATEGORIES:Community Education,Crow River Area Learning Center,District Events,District Featured,Early Childhood (ECFE),Hutchinson High School,Hutchinson Middle School,Park Elementary School,Transition Assistance Program (TAP),West Elementary School
GEO:44.8925483;-94.3692926
END:VEVENT
BEGIN:VEVENT
DTSTART;VALUE=DATE:20180207
DTEND;VALUE=DATE:20180208
DTSTAMP:20260420T104604
CREATED:20170619T155445Z
LAST-MODIFIED:20170619T155445Z
UID:10032438-1517961600-1518047999@www.isd423.org
SUMMARY:2 Hour Late Start
DESCRIPTION:
URL:https://www.isd423.org/event/2-hour-late-start-28/
LOCATION:Hutchinson\, 55350
CATEGORIES:Community Education,Crow River Area Learning Center,District Events,District Featured,Early Childhood (ECFE),Hutchinson High School,Hutchinson Middle School,Park Elementary School,Transition Assistance Program (TAP),West Elementary School
GEO:44.8925483;-94.3692926
END:VEVENT
BEGIN:VEVENT
DTSTART;VALUE=DATE:20180115
DTEND;VALUE=DATE:20180116
DTSTAMP:20260420T104604
CREATED:20170619T155419Z
LAST-MODIFIED:20170619T155419Z
UID:10032437-1515974400-1516060799@www.isd423.org
SUMMARY:No School - Martin Luther King Day
DESCRIPTION:
URL:https://www.isd423.org/event/no-school-martin-luther-king-day-2/
LOCATION:Hutchinson\, 55350
CATEGORIES:Community Education,Crow River Area Learning Center,District Events,District Featured,Early Childhood (ECFE),Hutchinson High School,Hutchinson Middle School,Park Elementary School,Transition Assistance Program (TAP),West Elementary School
GEO:44.8925483;-94.3692926
END:VEVENT
BEGIN:VEVENT
DTSTART;VALUE=DATE:20180112
DTEND;VALUE=DATE:20180113
DTSTAMP:20260420T104604
CREATED:20170619T155352Z
LAST-MODIFIED:20170619T155352Z
UID:10032436-1515715200-1515801599@www.isd423.org
SUMMARY:No School - K-12 Conferences
DESCRIPTION:
URL:https://www.isd423.org/event/no-school-k-12-conferences-3/
LOCATION:Hutchinson\, 55350
CATEGORIES:Community Education,Crow River Area Learning Center,District Events,District Featured,Early Childhood (ECFE),Hutchinson High School,Hutchinson Middle School,Park Elementary School,Transition Assistance Program (TAP),West Elementary School
GEO:44.8925483;-94.3692926
END:VEVENT
BEGIN:VEVENT
DTSTART;VALUE=DATE:20180111
DTEND;VALUE=DATE:20180112
DTSTAMP:20260420T104604
CREATED:20170619T155319Z
LAST-MODIFIED:20170619T155319Z
UID:10032435-1515628800-1515715199@www.isd423.org
SUMMARY:K-12 Conferences (evening)
DESCRIPTION:
URL:https://www.isd423.org/event/k-12-conferences-evening/
LOCATION:Hutchinson\, 55350
CATEGORIES:Community Education,Crow River Area Learning Center,District Events,District Featured,Early Childhood (ECFE),Hutchinson High School,Hutchinson Middle School,Park Elementary School,Transition Assistance Program (TAP),West Elementary School
GEO:44.8925483;-94.3692926
END:VEVENT
BEGIN:VEVENT
DTSTART;VALUE=DATE:20180101
DTEND;VALUE=DATE:20180102
DTSTAMP:20260420T104604
CREATED:20170619T155240Z
LAST-MODIFIED:20170619T155240Z
UID:10032434-1514764800-1514851199@www.isd423.org
SUMMARY:No School - New Year's Day
DESCRIPTION:
URL:https://www.isd423.org/event/no-school-new-years-day/
LOCATION:Hutchinson\, 55350
CATEGORIES:Community Education,Crow River Area Learning Center,District Events,District Featured,Early Childhood (ECFE),Hutchinson High School,Hutchinson Middle School,Park Elementary School,Transition Assistance Program (TAP),West Elementary School
GEO:44.8925483;-94.3692926
END:VEVENT
BEGIN:VEVENT
DTSTART;VALUE=DATE:20171225
DTEND;VALUE=DATE:20171230
DTSTAMP:20260420T104604
CREATED:20170619T155204Z
LAST-MODIFIED:20170619T155204Z
UID:10032433-1514160000-1514591999@www.isd423.org
SUMMARY:No School - Christmas Break
DESCRIPTION:
URL:https://www.isd423.org/event/no-school-christmas-break/
LOCATION:Hutchinson\, 55350
CATEGORIES:Community Education,Crow River Area Learning Center,District Events,District Featured,Early Childhood (ECFE),Hutchinson High School,Hutchinson Middle School,Park Elementary School,Transition Assistance Program (TAP),West Elementary School
GEO:44.8925483;-94.3692926
END:VEVENT
BEGIN:VEVENT
DTSTART;VALUE=DATE:20171206
DTEND;VALUE=DATE:20171207
DTSTAMP:20260420T104604
CREATED:20170619T155135Z
LAST-MODIFIED:20170619T155135Z
UID:10023136-1512518400-1512604799@www.isd423.org
SUMMARY:2 Hour Late Start
DESCRIPTION:
URL:https://www.isd423.org/event/2-hour-late-start-27/
LOCATION:Hutchinson\, 55350
CATEGORIES:Community Education,Crow River Area Learning Center,District Events,District Featured,Early Childhood (ECFE),Hutchinson High School,Hutchinson Middle School,Park Elementary School,Transition Assistance Program (TAP),West Elementary School
GEO:44.8925483;-94.3692926
END:VEVENT
BEGIN:VEVENT
DTSTART;VALUE=DATE:20171123
DTEND;VALUE=DATE:20171128
DTSTAMP:20260420T104604
CREATED:20170619T155006Z
LAST-MODIFIED:20170619T155006Z
UID:10023132-1511395200-1511827199@www.isd423.org
SUMMARY:No School - Thanksgiving Break
DESCRIPTION:
URL:https://www.isd423.org/event/no-school-thanksgiving-break/
LOCATION:Hutchinson\, 55350
CATEGORIES:Community Education,Crow River Area Learning Center,District Events,District Featured,Early Childhood (ECFE),Hutchinson High School,Hutchinson Middle School,Park Elementary School,Transition Assistance Program (TAP),West Elementary School
GEO:44.8925483;-94.3692926
END:VEVENT
BEGIN:VEVENT
DTSTART;VALUE=DATE:20171101
DTEND;VALUE=DATE:20171102
DTSTAMP:20260420T104604
CREATED:20170619T154456Z
LAST-MODIFIED:20170619T154456Z
UID:10023129-1509494400-1509580799@www.isd423.org
SUMMARY:2 Hour Late Start
DESCRIPTION:
URL:https://www.isd423.org/event/2-hour-late-start-26/
LOCATION:Hutchinson\, 55350
CATEGORIES:Community Education,Crow River Area Learning Center,District Events,District Featured,Early Childhood (ECFE),Hutchinson High School,Hutchinson Middle School,Park Elementary School,Transition Assistance Program (TAP),West Elementary School
GEO:44.8925483;-94.3692926
END:VEVENT
BEGIN:VEVENT
DTSTART;VALUE=DATE:20171019
DTEND;VALUE=DATE:20171021
DTSTAMP:20260420T104604
CREATED:20170619T154317Z
LAST-MODIFIED:20170619T154317Z
UID:10023127-1508371200-1508543999@www.isd423.org
SUMMARY:No School
DESCRIPTION:
URL:https://www.isd423.org/event/no-school-19/
LOCATION:Hutchinson\, 55350
CATEGORIES:Community Education,Crow River Area Learning Center,District Events,District Featured,Early Childhood (ECFE),Hutchinson High School,Hutchinson Middle School,Park Elementary School,Transition Assistance Program (TAP),West Elementary School
GEO:44.8925483;-94.3692926
END:VEVENT
BEGIN:VEVENT
DTSTART;VALUE=DATE:20171018
DTEND;VALUE=DATE:20171019
DTSTAMP:20260420T104604
CREATED:20170619T154231Z
LAST-MODIFIED:20170619T154752Z
UID:10023125-1508284800-1508371199@www.isd423.org
SUMMARY:No School - K-12 Conferences
DESCRIPTION:
URL:https://www.isd423.org/event/no-school-k-12-conferences/
LOCATION:Hutchinson\, 55350
CATEGORIES:Community Education,Crow River Area Learning Center,District Events,District Featured,Early Childhood (ECFE),Hutchinson High School,Hutchinson Middle School,Park Elementary School,Transition Assistance Program (TAP),West Elementary School
GEO:44.8925483;-94.3692926
END:VEVENT
BEGIN:VEVENT
DTSTART;VALUE=DATE:20171017
DTEND;VALUE=DATE:20171018
DTSTAMP:20260420T104604
CREATED:20170619T154051Z
LAST-MODIFIED:20170619T154725Z
UID:10023123-1508198400-1508284799@www.isd423.org
SUMMARY:K-12 Conference (evening)
DESCRIPTION:
URL:https://www.isd423.org/event/k-12-conference-evening/
LOCATION:Hutchinson\, 55350
CATEGORIES:Community Education,Crow River Area Learning Center,District Events,District Featured,Early Childhood (ECFE),Hutchinson High School,Hutchinson Middle School,Park Elementary School,Transition Assistance Program (TAP),West Elementary School
GEO:44.8925483;-94.3692926
END:VEVENT
BEGIN:VEVENT
DTSTART;VALUE=DATE:20171004
DTEND;VALUE=DATE:20171005
DTSTAMP:20260420T104604
CREATED:20170619T153659Z
LAST-MODIFIED:20170619T153659Z
UID:10023121-1507075200-1507161599@www.isd423.org
SUMMARY:2 Hour Late Start
DESCRIPTION:
URL:https://www.isd423.org/event/2-hour-late-start-25/
LOCATION:Hutchinson\, 55350
CATEGORIES:Community Education,Crow River Area Learning Center,District Events,District Featured,Early Childhood (ECFE),Hutchinson High School,Hutchinson Middle School,Park Elementary School,Transition Assistance Program (TAP),West Elementary School
GEO:44.8925483;-94.3692926
END:VEVENT
BEGIN:VEVENT
DTSTART;VALUE=DATE:20170925
DTEND;VALUE=DATE:20170930
DTSTAMP:20260420T104604
CREATED:20170619T153421Z
LAST-MODIFIED:20170619T153917Z
UID:10023119-1506297600-1506729599@www.isd423.org
SUMMARY:Homecoming Week
DESCRIPTION:
URL:https://www.isd423.org/event/homecoming-week/
LOCATION:Hutchinson\, 55350
CATEGORIES:Community Education,Crow River Area Learning Center,District Events,District Featured,Early Childhood (ECFE),Hutchinson High School,Hutchinson Middle School,Park Elementary School,Transition Assistance Program (TAP),West Elementary School
GEO:44.8925483;-94.3692926
END:VEVENT
BEGIN:VEVENT
DTSTART;VALUE=DATE:20170905
DTEND;VALUE=DATE:20170906
DTSTAMP:20260420T104604
CREATED:20170619T153342Z
LAST-MODIFIED:20170619T153834Z
UID:10032432-1504569600-1504655999@www.isd423.org
SUMMARY:First Day of School - Grades 2-12 / K-1 Orientation (8 am - 6 pm)
DESCRIPTION:
URL:https://www.isd423.org/event/first-day-of-school-grades-2-12-k-1-orientation-8-am-6-pm/
LOCATION:Hutchinson\, 55350
CATEGORIES:Community Education,Crow River Area Learning Center,District Events,District Featured,Early Childhood (ECFE),Hutchinson High School,Hutchinson Middle School,Park Elementary School,Transition Assistance Program (TAP),West Elementary School
GEO:44.8925483;-94.3692926
END:VEVENT
BEGIN:VEVENT
DTSTART;VALUE=DATE:20170619
DTEND;VALUE=DATE:20170620
DTSTAMP:20260420T104604
CREATED:20170619T155055Z
LAST-MODIFIED:20170619T155055Z
UID:10023134-1497830400-1497916799@www.isd423.org
SUMMARY:Trimester 2 Starts
DESCRIPTION:
URL:https://www.isd423.org/event/trimester-2-starts-4/
LOCATION:Hutchinson\, 55350
CATEGORIES:Community Education,Crow River Area Learning Center,District Events,District Featured,Early Childhood (ECFE),Hutchinson High School,Hutchinson Middle School,Park Elementary School,Transition Assistance Program (TAP),West Elementary School
GEO:44.8925483;-94.3692926
END:VEVENT
BEGIN:VEVENT
DTSTART;VALUE=DATE:20170619
DTEND;VALUE=DATE:20170620
DTSTAMP:20260420T104604
CREATED:20170619T154922Z
LAST-MODIFIED:20170619T154922Z
UID:10023130-1497830400-1497916799@www.isd423.org
SUMMARY:Trimester 1 Ends
DESCRIPTION:
URL:https://www.isd423.org/event/trimester-1-ends-4/
LOCATION:Hutchinson\, 55350
CATEGORIES:Community Education,Crow River Area Learning Center,District Events,District Featured,Early Childhood (ECFE),Hutchinson High School,Hutchinson Middle School,Park Elementary School,Transition Assistance Program (TAP),West Elementary School
GEO:44.8925483;-94.3692926
END:VEVENT
BEGIN:VEVENT
DTSTART;VALUE=DATE:20170412
DTEND;VALUE=DATE:20170413
DTSTAMP:20260420T104604
CREATED:20170619T155834Z
LAST-MODIFIED:20170619T155834Z
UID:10032445-1491955200-1492041599@www.isd423.org
SUMMARY:Grades 9-12 Conferences (evening)
DESCRIPTION:
URL:https://www.isd423.org/event/grades-9-12-conferences-evening/
LOCATION:Hutchinson\, 55350
CATEGORIES:Crow River Area Learning Center,District Events,District Featured,Hutchinson High School
GEO:44.8925483;-94.3692926
END:VEVENT
BEGIN:VEVENT
DTSTART;VALUE=DATE:20170116
DTEND;VALUE=DATE:20170117
DTSTAMP:20260420T104604
CREATED:20160318T174444Z
LAST-MODIFIED:20160318T174444Z
UID:10032382-1484524800-1484611199@www.isd423.org
SUMMARY:NO SCHOOL (Martin Luther King Day)
DESCRIPTION:
URL:https://www.isd423.org/event/no-school-martin-luther-king-day/
LOCATION:Unnamed Venue\, MN
CATEGORIES:Community Education,Crow River Area Learning Center,District Events,District Featured,Early Childhood (ECFE),Hutchinson High School,Hutchinson Middle School,Park Elementary School,Transition Assistance Program (TAP),West Elementary School
GEO:46.729553;-94.6858998
END:VEVENT
BEGIN:VEVENT
DTSTART;VALUE=DATE:20170113
DTEND;VALUE=DATE:20170114
DTSTAMP:20260420T104604
CREATED:20160318T174404Z
LAST-MODIFIED:20160318T174404Z
UID:10032381-1484265600-1484351999@www.isd423.org
SUMMARY:GRADES K-8 NO SCHOOL - CONFERENCES
DESCRIPTION:
URL:https://www.isd423.org/event/grades-k-8-no-school-conferences-2/
LOCATION:Unnamed Venue\, MN
CATEGORIES:Community Education,Crow River Area Learning Center,District Events,District Featured,Early Childhood (ECFE),Hutchinson High School,Hutchinson Middle School,Park Elementary School,Transition Assistance Program (TAP),West Elementary School
GEO:46.729553;-94.6858998
END:VEVENT
BEGIN:VEVENT
DTSTART;VALUE=DATE:20170113
DTEND;VALUE=DATE:20170114
DTSTAMP:20260420T104604
CREATED:20160318T174156Z
LAST-MODIFIED:20160318T174156Z
UID:10032380-1484265600-1484351999@www.isd423.org
SUMMARY:GRADES 9-12 DIGITAL SCHOOL DAY
DESCRIPTION:
URL:https://www.isd423.org/event/grades-9-12-digital-school-day/
LOCATION:Unnamed Venue\, MN
CATEGORIES:Community Education,Crow River Area Learning Center,District Events,District Featured,Early Childhood (ECFE),Hutchinson High School,Hutchinson Middle School,Park Elementary School,Transition Assistance Program (TAP),West Elementary School
GEO:46.729553;-94.6858998
END:VEVENT
BEGIN:VEVENT
DTSTART;VALUE=DATE:20170112
DTEND;VALUE=DATE:20170113
DTSTAMP:20260420T104604
CREATED:20160318T174110Z
LAST-MODIFIED:20160318T174110Z
UID:10032378-1484179200-1484265599@www.isd423.org
SUMMARY:K-12 CONFERENCES (4-8 pm)
DESCRIPTION:
URL:https://www.isd423.org/event/k-12-conferences-4-8-pm-2/
LOCATION:Unnamed Venue\, MN
CATEGORIES:Community Education,Crow River Area Learning Center,District Events,District Featured,Early Childhood (ECFE),Hutchinson High School,Hutchinson Middle School,Park Elementary School,Transition Assistance Program (TAP),West Elementary School
GEO:46.729553;-94.6858998
END:VEVENT
BEGIN:VEVENT
DTSTART;VALUE=DATE:20161226
DTEND;VALUE=DATE:20170103
DTSTAMP:20260420T104604
CREATED:20160318T174019Z
LAST-MODIFIED:20160318T174019Z
UID:10032376-1482710400-1483401599@www.isd423.org
SUMMARY:NO SCHOOL (Holiday Break)
DESCRIPTION:
URL:https://www.isd423.org/event/no-school-holiday-break/
LOCATION:Unnamed Venue\, MN
CATEGORIES:Community Education,Crow River Area Learning Center,District Events,District Featured,Early Childhood (ECFE),Hutchinson High School,Hutchinson Middle School,Park Elementary School,Transition Assistance Program (TAP),West Elementary School
GEO:46.729553;-94.6858998
END:VEVENT
BEGIN:VEVENT
DTSTART;VALUE=DATE:20161207
DTEND;VALUE=DATE:20161208
DTSTAMP:20260420T104604
CREATED:20160318T173909Z
LAST-MODIFIED:20160318T173909Z
UID:10032374-1481068800-1481155199@www.isd423.org
SUMMARY:2 HOUR LATE START
DESCRIPTION:
URL:https://www.isd423.org/event/2-hour-late-start-22/
LOCATION:Unnamed Venue\, MN
CATEGORIES:Community Education,Crow River Area Learning Center,District Events,District Featured,Early Childhood (ECFE),Hutchinson High School,Hutchinson Middle School,Park Elementary School,Transition Assistance Program (TAP),West Elementary School
GEO:46.729553;-94.6858998
END:VEVENT
BEGIN:VEVENT
DTSTART;VALUE=DATE:20161124
DTEND;VALUE=DATE:20161126
DTSTAMP:20260420T104604
CREATED:20160318T173730Z
LAST-MODIFIED:20160318T173730Z
UID:10032372-1479945600-1480118399@www.isd423.org
SUMMARY:NO SCHOOL (Thanksgiving)
DESCRIPTION:
URL:https://www.isd423.org/event/no-school-thanksgiving/
LOCATION:Unnamed Venue\, MN
CATEGORIES:Community Education,Crow River Area Learning Center,District Events,District Featured,Early Childhood (ECFE),Hutchinson High School,Hutchinson Middle School,Park Elementary School,Transition Assistance Program (TAP),West Elementary School
GEO:46.729553;-94.6858998
END:VEVENT
BEGIN:VEVENT
DTSTART;VALUE=DATE:20161115
DTEND;VALUE=DATE:20161116
DTSTAMP:20260420T104604
CREATED:20160318T173620Z
LAST-MODIFIED:20160318T173620Z
UID:10032370-1479168000-1479254399@www.isd423.org
SUMMARY:TRIMESTER 2 STARTS
DESCRIPTION:
URL:https://www.isd423.org/event/trimester-2-starts-3/
LOCATION:Unnamed Venue\, MN
CATEGORIES:Community Education,Crow River Area Learning Center,District Events,District Featured,Early Childhood (ECFE),Hutchinson High School,Hutchinson Middle School,Park Elementary School,Transition Assistance Program (TAP),West Elementary School
GEO:46.729553;-94.6858998
END:VEVENT
BEGIN:VEVENT
DTSTART;VALUE=DATE:20161114
DTEND;VALUE=DATE:20161115
DTSTAMP:20260420T104604
CREATED:20160318T173551Z
LAST-MODIFIED:20160318T173551Z
UID:10032368-1479081600-1479167999@www.isd423.org
SUMMARY:NO SCHOOL (Teacher Work Day)
DESCRIPTION:
URL:https://www.isd423.org/event/no-school-teacher-work-day/
LOCATION:Unnamed Venue\, MN
CATEGORIES:Community Education,Crow River Area Learning Center,District Events,District Featured,Early Childhood (ECFE),Hutchinson High School,Hutchinson Middle School,Park Elementary School,Transition Assistance Program (TAP),West Elementary School
GEO:46.729553;-94.6858998
END:VEVENT
END:VCALENDAR